BEGIN:VCALENDAR
METHOD:REQUEST
PRODID:Microsoft Exchange Server 2010
VERSION:2.0
BEGIN:VTIMEZONE
TZID:Eastern Standard Time
BEGIN:STANDARD
DTSTART:16010101T020000
TZOFFSETFROM:-0400
TZOFFSETTO:-0500
RRULE:FREQ=YEARLY;INTERVAL=1;BYDAY=1SU;BYMONTH=11
END:STANDARD
BEGIN:DAYLIGHT
DTSTART:16010101T020000
TZOFFSETFROM:-0500
TZOFFSETTO:-0400
RRULE:FREQ=YEARLY;INTERVAL=1;BYDAY=2SU;BYMONTH=3
END:DAYLIGHT
END:VTIMEZONE
BEGIN:VEVENT
ORGANIZER;CN=Kris Phillips:mailto:kris.phillips@kenexis.com
ATTENDEE;ROLE=REQ-PARTICIPANT;PARTSTAT=NEEDS-ACTION;RSVP=TRUE;CN=kphillips:
 mailto:kphillips520@gmail.com
ATTENDEE;ROLE=REQ-PARTICIPANT;PARTSTAT=NEEDS-ACTION;RSVP=TRUE;CN=Edward Mar
 szal:mailto:edward.marszal@kenexis.com
ATTENDEE;ROLE=REQ-PARTICIPANT;PARTSTAT=NEEDS-ACTION;RSVP=TRUE;CN=Edward Nar
 anjo:mailto:edward.naranjo@kenexis.com
ATTENDEE;ROLE=OPT-PARTICIPANT;PARTSTAT=NEEDS-ACTION;RSVP=TRUE;CN=Melanie Ma
 rszal:mailto:melanie.marszal@kenexis.com
DESCRIPTION;LANGUAGE=en-US:\n\n-----Original Appointment-----\nFrom: Kris P
 hillips\nSent: Monday\, October 27\, 2025 2:13 PM\nTo: Kris Phillips\; Edw
 ard Marszal\; Edward Naranjo\nCc: Melanie Marszal\nSubject: Webinar: Accel
 erating HAZOP Studies with AI: Automating Transcription\, Summarization\, 
 and Worksheet Generation\nWhen: Thursday\, December 18\, 2025 10:00 AM-12:
 00 PM (UTC-05:00) Eastern Time (US & Canada).\nWhere: Microsoft Teams Meet
 ing\n\n\n_________________________________________________________________
 _______________\nMicrosoft Teams Need help?<https://aka.ms/JoinTeamsMeetin
 g?omkt=en-US>\nJoin the meeting now<https://teams.microsoft.com/l/meetup-j
 oin/19%3ameeting_NTdjOTlhNjUtNGI5OS00Zjk4LThmMGUtODQyZDNjZGVhYzE0%40thread
 .v2/0?context=%7b%22Tid%22%3a%222dc2f083-3e04-4b27-a116-9506e2b6b0f6%22%2c
 %22Oid%22%3a%225193c8bf-bb3b-446c-a913-9b4a369da6e8%22%7d>\nMeeting ID: 26
 7 301 589 641 2\nPasscode: nd9wf3Rx\n________________________________\nDia
 l in by phone\n+1 614-429-1179\,\,959960716#<tel:+16144291179\,\,959960716
 > United States\, Columbus\nFind a local number<https://dialin.teams.micro
 soft.com/021c77a2-9573-4304-88be-c80db249beee?id=959960716>\nPhone confere
 nce ID: 959 960 716#\nFor organizers: Meeting options<https://teams.micros
 oft.com/meetingOptions/?organizerId=5193c8bf-bb3b-446c-a913-9b4a369da6e8&t
 enantId=2dc2f083-3e04-4b27-a116-9506e2b6b0f6&threadId=19_meeting_NTdjOTlhN
 jUtNGI5OS00Zjk4LThmMGUtODQyZDNjZGVhYzE0@thread.v2&messageId=0&language=en-
 US> | Reset dial-in PIN<https://dialin.teams.microsoft.com/usp/pstnconfere
 ncing>\n[https://a6c8db734ec6e40718ab9244.blob.core.windows.net/images/Ken
 exis-logo-name-email-signature.png]\nDesign For Safety\, Security & Reliab
 ility\n___________________________________________________________________
 _____________\n\n
UID:040000008200E00074C5B7101A82E00800000000B0DEB2664B47DC01000000000000000
 0100000001E2FA107E214454AA84D89A1D0E9666D
SUMMARY;LANGUAGE=en-US:FW: Webinar: Accelerating HAZOP Studies with AI: Aut
 omating Transcription\, Summarization\, and Worksheet Generation
DTSTART;TZID=Eastern Standard Time:20251218T100000
DTEND;TZID=Eastern Standard Time:20251218T120000
CLASS:PUBLIC
PRIORITY:5
DTSTAMP:20251027T181238Z
TRANSP:OPAQUE
STATUS:CONFIRMED
SEQUENCE:1
LOCATION;LANGUAGE=en-US:Microsoft Teams Meeting
X-MICROSOFT-CDO-APPT-SEQUENCE:1
X-MICROSOFT-CDO-OWNERAPPTID:-1298421783
X-MICROSOFT-CDO-BUSYSTATUS:TENTATIVE
X-MICROSOFT-CDO-INTENDEDSTATUS:BUSY
X-MICROSOFT-CDO-ALLDAYEVENT:FALSE
X-MICROSOFT-CDO-IMPORTANCE:1
X-MICROSOFT-CDO-INSTTYPE:0
X-MICROSOFT-ONLINEMEETINGINFORMATION:{"OnlineMeetingChannelId":null\,"Onlin
 eMeetingProvider":3}
X-MICROSOFT-SKYPETEAMSMEETINGURL:https://teams.microsoft.com/l/meetup-join/
 19%3ameeting_NTdjOTlhNjUtNGI5OS00Zjk4LThmMGUtODQyZDNjZGVhYzE0%40thread.v2/
 0?context=%7b%22Tid%22%3a%222dc2f083-3e04-4b27-a116-9506e2b6b0f6%22%2c%22O
 id%22%3a%225193c8bf-bb3b-446c-a913-9b4a369da6e8%22%7d
X-MICROSOFT-SCHEDULINGSERVICEUPDATEURL:https://api.scheduler.teams.microsof
 t.com/teams/2dc2f083-3e04-4b27-a116-9506e2b6b0f6/5193c8bf-bb3b-446c-a913-9
 b4a369da6e8/19_meeting_NTdjOTlhNjUtNGI5OS00Zjk4LThmMGUtODQyZDNjZGVhYzE0@th
 read.v2/0
X-MICROSOFT-SKYPETEAMSPROPERTIES:{"cid":"19:meeting_NTdjOTlhNjUtNGI5OS00Zjk
 4LThmMGUtODQyZDNjZGVhYzE0@thread.v2"\,"private":true\,"type":0\,"mid":0\,"
 rid":0\,"uid":null}
X-MICROSOFT-DONOTFORWARDMEETING:FALSE
X-MICROSOFT-DISALLOW-COUNTER:FALSE
X-MICROSOFT-REQUESTEDATTENDANCEMODE:DEFAULT
X-MICROSOFT-ISRESPONSEREQUESTED:TRUE
X-MICROSOFT-LOCATIONS:[ { "DisplayName" : "Microsoft Teams Meeting"\, "Loca
 tionAnnotation" : ""\, "LocationSource" : 0\, "Unresolved" : false\, "Loca
 tionUri" : "" } ]
BEGIN:VALARM
DESCRIPTION:REMINDER
TRIGGER;RELATED=START:-PT15M
ACTION:DISPLAY
END:VALARM
END:VEVENT
END:VCALENDAR
